BEGIN:VCALENDAR
VERSION:2.0
PRODID:-//Friends of Frenchies Eugene - ECPv6.15.20//NONSGML v1.0//EN
CALSCALE:GREGORIAN
METHOD:PUBLISH
X-WR-CALNAME:Friends of Frenchies Eugene
X-ORIGINAL-URL:https://fofeugene.org
X-WR-CALDESC:Events for Friends of Frenchies Eugene
REFRESH-INTERVAL;VALUE=DURATION:PT1H
X-Robots-Tag:noindex
X-PUBLISHED-TTL:PT1H
BEGIN:VTIMEZONE
TZID:America/Los_Angeles
BEGIN:DAYLIGHT
TZOFFSETFROM:-0800
TZOFFSETTO:-0700
TZNAME:PDT
DTSTART:20230312T100000
END:DAYLIGHT
BEGIN:STANDARD
TZOFFSETFROM:-0700
TZOFFSETTO:-0800
TZNAME:PST
DTSTART:20231105T090000
END:STANDARD
BEGIN:DAYLIGHT
TZOFFSETFROM:-0800
TZOFFSETTO:-0700
TZNAME:PDT
DTSTART:20240310T100000
END:DAYLIGHT
BEGIN:STANDARD
TZOFFSETFROM:-0700
TZOFFSETTO:-0800
TZNAME:PST
DTSTART:20241103T090000
END:STANDARD
BEGIN:DAYLIGHT
TZOFFSETFROM:-0800
TZOFFSETTO:-0700
TZNAME:PDT
DTSTART:20250309T100000
END:DAYLIGHT
BEGIN:STANDARD
TZOFFSETFROM:-0700
TZOFFSETTO:-0800
TZNAME:PST
DTSTART:20251102T090000
END:STANDARD
END:VTIMEZONE
BEGIN:VEVENT
DTSTART;TZID=America/Los_Angeles:20240428T000000
DTEND;TZID=America/Los_Angeles:20240502T235959
DTSTAMP:20260422T172104
CREATED:20240127T023725Z
LAST-MODIFIED:20260305T215133Z
UID:278-1714262400-1714694399@fofeugene.org
SUMMARY:8th Graders @ Canoe Island
DESCRIPTION:Bon Voyage!
URL:https://fofeugene.org/event/8th-graders-canoe-island/
LOCATION:Oregon
CATEGORIES:Canoe Island
END:VEVENT
END:VCALENDAR