BEGIN:VCALENDAR
VERSION:2.0
PRODID:-//Friends of Frenchies Eugene - ECPv6.15.20//NONSGML v1.0//EN
CALSCALE:GREGORIAN
METHOD:PUBLISH
X-ORIGINAL-URL:https://fofeugene.org
X-WR-CALDESC:Events for Friends of Frenchies Eugene
REFRESH-INTERVAL;VALUE=DURATION:PT1H
X-Robots-Tag:noindex
X-PUBLISHED-TTL:PT1H
BEGIN:VTIMEZONE
TZID:America/Los_Angeles
BEGIN:DAYLIGHT
TZOFFSETFROM:-0800
TZOFFSETTO:-0700
TZNAME:PDT
DTSTART:20230312T100000
END:DAYLIGHT
BEGIN:STANDARD
TZOFFSETFROM:-0700
TZOFFSETTO:-0800
TZNAME:PST
DTSTART:20231105T090000
END:STANDARD
BEGIN:DAYLIGHT
TZOFFSETFROM:-0800
TZOFFSETTO:-0700
TZNAME:PDT
DTSTART:20240310T100000
END:DAYLIGHT
BEGIN:STANDARD
TZOFFSETFROM:-0700
TZOFFSETTO:-0800
TZNAME:PST
DTSTART:20241103T090000
END:STANDARD
BEGIN:DAYLIGHT
TZOFFSETFROM:-0800
TZOFFSETTO:-0700
TZNAME:PDT
DTSTART:20250309T100000
END:DAYLIGHT
BEGIN:STANDARD
TZOFFSETFROM:-0700
TZOFFSETTO:-0800
TZNAME:PST
DTSTART:20251102T090000
END:STANDARD
BEGIN:DAYLIGHT
TZOFFSETFROM:-0800
TZOFFSETTO:-0700
TZNAME:PDT
DTSTART:20260308T100000
END:DAYLIGHT
BEGIN:STANDARD
TZOFFSETFROM:-0700
TZOFFSETTO:-0800
TZNAME:PST
DTSTART:20261101T090000
END:STANDARD
BEGIN:DAYLIGHT
TZOFFSETFROM:-0800
TZOFFSETTO:-0700
TZNAME:PDT
DTSTART:20270314T100000
END:DAYLIGHT
BEGIN:STANDARD
TZOFFSETFROM:-0700
TZOFFSETTO:-0800
TZNAME:PST
DTSTART:20271107T090000
END:STANDARD
END:VTIMEZONE
BEGIN:VEVENT
DTSTART;TZID=America/Los_Angeles:20240714T150000
DTEND;TZID=America/Los_Angeles:20240714T170000
DTSTAMP:20260422T150223
CREATED:20240330T043535Z
LAST-MODIFIED:20240330T043536Z
UID:326-1720969200-1720976400@fofeugene.org
SUMMARY:Save the Date: Bastille Day Picnic
DESCRIPTION:Save the date for the Basitlle Day Picnic Basket provided by Provisions.  Delicious details coming soon.
URL:https://fofeugene.org/event/save-the-date-bastille-day-picnic/
LOCATION:Oregon
END:VEVENT
BEGIN:VEVENT
DTSTART;TZID=America/Los_Angeles:20240819T090000
DTEND;TZID=America/Los_Angeles:20240823T120000
DTSTAMP:20260422T150223
CREATED:20240330T045406Z
LAST-MODIFIED:20260305T215156Z
UID:328-1724058000-1724414400@fofeugene.org
SUMMARY:Camp Rigolo for Rising K-5th Graders
DESCRIPTION:Practice French over the summer! Meet up with Frenchie friends\, make new ones\, and welcome new students to our community! Camp counselors are current high school IHS students and (mostly!) past campers. \nRegister Here!
URL:https://fofeugene.org/event/camp-rigolo-for-rising-k-5th-graders/
LOCATION:First Congregational Church\, 1050 E 23rd Ave\, Eugene\, OR\, 97405\, United States
CATEGORIES:Camp Rigolo
END:VEVENT
BEGIN:VEVENT
DTSTART;TZID=America/Los_Angeles:20240831T140000
DTEND;TZID=America/Los_Angeles:20240831T210000
DTSTAMP:20260422T150223
CREATED:20240810T185735Z
LAST-MODIFIED:20240830T151301Z
UID:360-1725112800-1725138000@fofeugene.org
SUMMARY:Fundraising: UofO Concessions UO v Idaho
DESCRIPTION:Join us in fundraising for all the great initiatives FoFE is involved with!  UO takes on Idaho with a 4:30pm kickoff\, volunteers arrive at 2pm (2.5 hours before kickoff and lead arrive 3 hours before kickoff).  Bring friends and family (must be 14 years or older). It’s a great way to meet other parents and frenchies while supporting FoFE.  Students can even earn volunteer hours and valuable customer service experience! \nSign up here or email us at friends.of.frenchies.eugene@gmail.com! \nIf you are attending the game\, please stop by our Pizza booth to support FoFE with a purchase of refreshments or just to say HI!
URL:https://fofeugene.org/event/fundraising-uofo-concessions-uo-v-idaho/
LOCATION:Autzen Stadium A10\, 2745 Leo Harris Pkwy\, Eugene\, OR\, 97401\, United States
ATTACH;FMTTYPE=image/jpeg:https://fofeugene.org/wp-content/uploads/2024/02/Oregon-Ducks-Logo-old-e1709267437145.jpg
END:VEVENT
BEGIN:VEVENT
DTSTART;TZID=America/Los_Angeles:20240903T000000
DTEND;TZID=America/Los_Angeles:20240907T235959
DTSTAMP:20260422T150223
CREATED:20240103T081333Z
LAST-MODIFIED:20240103T082729Z
UID:242-1725321600-1725753599@fofeugene.org
SUMMARY:5th Graders @ Canoe Island
DESCRIPTION:Bon Voyage!
URL:https://fofeugene.org/event/5th-graders-canoe-island/
LOCATION:Oregon
CATEGORIES:Canoe Island
END:VEVENT
BEGIN:VEVENT
DTSTART;TZID=America/Los_Angeles:20241004T153000
DTEND;TZID=America/Los_Angeles:20241004T213000
DTSTAMP:20260422T150223
CREATED:20241002T060103Z
LAST-MODIFIED:20241002T060103Z
UID:373-1728055800-1728077400@fofeugene.org
SUMMARY:Fundraising Concessions UO vs Michigan State
DESCRIPTION:Join us in fundraising for all the great initiatives FoFE is involved with!  UO takes on Michigan State with a 6pm kickoff\, volunteers arrive at 2pm (2.5 hours before kickoff and lead arrive 3 hours before kickoff).  Bring friends and family (must be 14 years or older). It’s a great way to meet other parents and frenchies while supporting FoFE.  Students can even earn volunteer hours and valuable customer service experience! \nSign up here or email us at friends.of.frenchies.eugene@gmail.com! \nIf you are attending the game\, please stop by our Pizza booth to support FoFE with a purchase of refreshments or just to say HI!
URL:https://fofeugene.org/event/fundraising-concessions-uo-vs-michigan-state/
LOCATION:Autzen Stadium A10\, 2745 Leo Harris Pkwy\, Eugene\, OR\, 97401\, United States
ATTACH;FMTTYPE=image/jpeg:https://fofeugene.org/wp-content/uploads/2024/02/Oregon-Ducks-Logo-old-e1709267437145.jpg
END:VEVENT
BEGIN:VEVENT
DTSTART;TZID=America/Los_Angeles:20241012T140000
DTEND;TZID=America/Los_Angeles:20241012T210000
DTSTAMP:20260422T150223
CREATED:20241011T021156Z
LAST-MODIFIED:20241011T022007Z
UID:376-1728741600-1728766800@fofeugene.org
SUMMARY:Football Concessions #3 UO vs #2 Ohio St Fundraiser
DESCRIPTION:This game will be the biggest head-to-head in Autzen’s history!  #3 UO takes on #2 Ohio State with a 4:30pm kickoff\, volunteers arrive at 2pm (2.5 hours before kickoff and lead arrive 3 hours before kickoff).  Bring friends and family (must be 14 years or older). It’s a great way to meet other parents and frenchies while supporting FoFE.  Students can even earn volunteer hours and valuable customer service experience.  Join us in fundraising for all the great initiatives FoFE is involved with\, while supporting our hometown ducks! \nSign up here or email us at friends.of.frenchies.eugene@gmail.com! \nIf you are attending the game\, please stop by our Pizza booth to support FoFE with a purchase of refreshments or just to say HI! \nGO DUCKS!
URL:https://fofeugene.org/event/uo-concessions-3-uo-vs-2-ohio-st/
LOCATION:Autzen Stadium A10\, 2745 Leo Harris Pkwy\, Eugene\, OR\, 97401\, United States
ATTACH;FMTTYPE=image/jpeg:https://fofeugene.org/wp-content/uploads/2024/02/Oregon-Ducks-Logo-old-e1709267437145.jpg
END:VEVENT
BEGIN:VEVENT
DTSTART;TZID=America/Los_Angeles:20241026T000000
DTEND;TZID=America/Los_Angeles:20241026T235959
DTSTAMP:20260422T150223
CREATED:20241011T021847Z
LAST-MODIFIED:20241011T022613Z
UID:378-1729900800-1729987199@fofeugene.org
SUMMARY:UO Football Concessions Fundraiser
DESCRIPTION:UO takes on Illonois with a kickoff time TBD\, volunteers arrive 2.5 hours before kickoff and lead arrive 3 hours before kickoff.  Bring friends and family (must be 14 years or older). It’s a great way to meet other parents and frenchies while supporting FoFE.  Students can even earn volunteer hours and valuable customer service experience.  Join us in fundraising for all the great initiatives FoFE is involved with\, while supporting our hometown ducks! \nSign up here or email us at friends.of.frenchies.eugene@gmail.com! \nIf you are attending the game\, please stop by our Pizza booth to support FoFE with a purchase of refreshments or just to say HI! \nGO DUCKS!
URL:https://fofeugene.org/event/uo-football-concessions-fundraiser/
LOCATION:Autzen Stadium A10\, 2745 Leo Harris Pkwy\, Eugene\, OR\, 97401\, United States
ATTACH;FMTTYPE=image/jpeg:https://fofeugene.org/wp-content/uploads/2024/02/Oregon-Ducks-Logo-old-e1709267437145.jpg
END:VEVENT
BEGIN:VEVENT
DTSTART;TZID=America/Los_Angeles:20260302T000000
DTEND;TZID=America/Los_Angeles:20260413T235959
DTSTAMP:20260422T150223
CREATED:20260305T212904Z
LAST-MODIFIED:20260409T052327Z
UID:487-1772409600-1776124799@fofeugene.org
SUMMARY:Community Impact Award
DESCRIPTION:Friends of French Eugene are pleased to announce the opening of applications for the 2026 High School Community Impact Award. This award recognizes high school juniors and seniors who have made exceptional contributions to the local French Immersion community. This recognition celebrates individuals whose volunteerism\, civic leadership\, and public service extend far beyond their educational responsibilities to create meaningful community impact. An award of up to $500 will be given to top two recipients and a Recognition Certificate to up to five Seniors and up to ten Juniors in recognition of their contributions. The deadline for consideration is extended to April 13\, 2026\, and recipients will be notified of their awards on May 8\, 2026.  \nFor any inquires\, contact hexeok@gmail.com \nWho can apply: Junior and Seniors in High School in Eugene/Springfield  \nDeadline: April 13\, 2026   \nWhat to submit:  \n\nOnline application form (Use Google account)\nOptional: Applicants can have up to two optional letters of recommendation (each with max 300 words) turned in on their behalf for additional consideration at friends.of.frenchies.eugene@gmail.com. This is optional and not necessary to be considered for this award.
URL:https://fofeugene.org/event/community-impact-award/
LOCATION:Oregon
END:VEVENT
BEGIN:VEVENT
DTSTART;TZID=America/Los_Angeles:20260425T103000
DTEND;TZID=America/Los_Angeles:20260425T153000
DTSTAMP:20260422T150223
CREATED:20260409T051646Z
LAST-MODIFIED:20260409T051646Z
UID:495-1777113000-1777131000@fofeugene.org
SUMMARY:Fundraising: UO Spring Game Concessions
DESCRIPTION:Sign up to volunteer at the Friends of Frenchies concessions booth.  Join us in fundraising for all the great initiatives FoFE is involved with!  Bring friends and family (must be 14 years or older). It’s a great way to meet other parents and frenchies while supporting FoFE.  Students can even earn volunteer hours and valuable customer service experience! \n\nNeed is for 17 volunteers\, aged 14 and older\, with or able to obtain a current Food Handlers card\nTimes: 10:30 am ~ 3:30 pm (commitment is for 2½ hours before start of game at 1 pm and includes clean up)\n\nSign up to volunteer here!
URL:https://fofeugene.org/event/fundraising-uo-spring-game-concessions/
LOCATION:Autzen Stadium\, 2745 Leo Harris Pkwy\, Eugene\, Oregon
ATTACH;FMTTYPE=image/jpeg:https://fofeugene.org/wp-content/uploads/2024/02/Oregon-Ducks-Logo-old-e1709267437145.jpg
END:VEVENT
BEGIN:VEVENT
DTSTART;TZID=America/Los_Angeles:20260810T083000
DTEND;TZID=America/Los_Angeles:20260813T143000
DTSTAMP:20260422T150223
CREATED:20260305T214042Z
LAST-MODIFIED:20260305T215106Z
UID:490-1786350600-1786631400@fofeugene.org
SUMMARY:Camp Rigolo 2026
DESCRIPTION:August 10-13th 8:30am-2:30pm
URL:https://fofeugene.org/event/camp-rigolo-2026/
LOCATION:First Congregational Church\, 1050 E 23rd Ave\, Eugene\, OR\, 97405\, United States
CATEGORIES:Camp Rigolo
END:VEVENT
END:VCALENDAR