BEGIN:VCALENDAR
VERSION:2.0
PRODID:-//Friends of Frenchies Eugene - ECPv6.15.20//NONSGML v1.0//EN
CALSCALE:GREGORIAN
METHOD:PUBLISH
X-WR-CALNAME:Friends of Frenchies Eugene
X-ORIGINAL-URL:https://fofeugene.org
X-WR-CALDESC:Events for Friends of Frenchies Eugene
REFRESH-INTERVAL;VALUE=DURATION:PT1H
X-Robots-Tag:noindex
X-PUBLISHED-TTL:PT1H
BEGIN:VTIMEZONE
TZID:America/Los_Angeles
BEGIN:DAYLIGHT
TZOFFSETFROM:-0800
TZOFFSETTO:-0700
TZNAME:PDT
DTSTART:20230312T100000
END:DAYLIGHT
BEGIN:STANDARD
TZOFFSETFROM:-0700
TZOFFSETTO:-0800
TZNAME:PST
DTSTART:20231105T090000
END:STANDARD
BEGIN:DAYLIGHT
TZOFFSETFROM:-0800
TZOFFSETTO:-0700
TZNAME:PDT
DTSTART:20240310T100000
END:DAYLIGHT
BEGIN:STANDARD
TZOFFSETFROM:-0700
TZOFFSETTO:-0800
TZNAME:PST
DTSTART:20241103T090000
END:STANDARD
BEGIN:DAYLIGHT
TZOFFSETFROM:-0800
TZOFFSETTO:-0700
TZNAME:PDT
DTSTART:20250309T100000
END:DAYLIGHT
BEGIN:STANDARD
TZOFFSETFROM:-0700
TZOFFSETTO:-0800
TZNAME:PST
DTSTART:20251102T090000
END:STANDARD
END:VTIMEZONE
BEGIN:VEVENT
DTSTART;TZID=America/Los_Angeles:20240427T103000
DTEND;TZID=America/Los_Angeles:20240427T153000
DTSTAMP:20260421T154710
CREATED:20240301T035455Z
LAST-MODIFIED:20240419T034401Z
UID:297-1714213800-1714231800@fofeugene.org
SUMMARY:UofO Spring Game Concessions
DESCRIPTION:Need is for 17 volunteers including 8 with OLCC license\, aged 14 and older\nTimes: 10:30 am ~ 3:30 pm (commitment is for 2½ hours before start of game at 1 pm and includes clean up)\n\nSign up to volunteer here! \nIf you are attending the game\, please stop by our booth to support FoFE with a purchase of refreshments or just to say HI! \n 
URL:https://fofeugene.org/event/uofo-spring-game-concessions/
LOCATION:Autzen Stadium M39\, 2745 Leo Harris Pkwy\, Eugene\, OR\, 97401\, United States
ATTACH;FMTTYPE=image/jpeg:https://fofeugene.org/wp-content/uploads/2024/02/Oregon-Ducks-Logo-old-e1709267437145.jpg
END:VEVENT
BEGIN:VEVENT
DTSTART;TZID=America/Los_Angeles:20240421T120000
DTEND;TZID=America/Los_Angeles:20240421T140000
DTSTAMP:20260421T154710
CREATED:20240419T040648Z
LAST-MODIFIED:20240419T040648Z
UID:339-1713700800-1713708000@fofeugene.org
SUMMARY:Translation Project for National Museum of Chad
DESCRIPTION:Friends of Frenchies Eugene is sponsoring this Service Project with the National Museum of Chad\, located in the capital city N’Djamena.  We have an amazing opportunity to help with the translation of display placards from French to English.  If you are a French speaking student\, you are invited to come help translate and earn service hours.  It is a unique opportunity to help the national museum of another country. \nPlease RSVP if you can come.
URL:https://fofeugene.org/event/translation-project-for-national-museum-of-chad/
LOCATION:OR
END:VEVENT
BEGIN:VEVENT
DTSTART;TZID=America/Los_Angeles:20240418T193000
DTEND;TZID=America/Los_Angeles:20240418T203000
DTSTAMP:20260421T154710
CREATED:20240127T171913Z
LAST-MODIFIED:20240418T224137Z
UID:285-1713468600-1713472200@fofeugene.org
SUMMARY:FoFE General Meeting
DESCRIPTION:Join Zoom Meeting https://byui.zoom.us/j/5294976580?omn=98391595451 Meeting ID: 529 497 6580
URL:https://fofeugene.org/event/fofe-general-meeting-2/
LOCATION:OR
END:VEVENT
BEGIN:VEVENT
DTSTART;TZID=America/Los_Angeles:20240305T193000
DTEND;TZID=America/Los_Angeles:20240305T203000
DTSTAMP:20260421T154710
CREATED:20240127T023852Z
LAST-MODIFIED:20240127T023852Z
UID:281-1709667000-1709670600@fofeugene.org
SUMMARY:FoFE Board Meeting
DESCRIPTION:Zoom
URL:https://fofeugene.org/event/fofe-board-meeting/
LOCATION:OR
END:VEVENT
BEGIN:VEVENT
DTSTART;TZID=America/Los_Angeles:20240227T193000
DTEND;TZID=America/Los_Angeles:20240227T203000
DTSTAMP:20260421T154710
CREATED:20240127T171740Z
LAST-MODIFIED:20240228T030855Z
UID:283-1709062200-1709065800@fofeugene.org
SUMMARY:FoFE General Meeting
DESCRIPTION:Please join us for our general meeting via Zoom. \nSee you tonight at 7:30! \nhttps://byui.zoom.us/my/rachelsmithanderson?omn=99889514210
URL:https://fofeugene.org/event/fofe-general-meeting/
LOCATION:OR
END:VEVENT
BEGIN:VEVENT
DTSTART;TZID=America/Los_Angeles:20240118T190000
DTEND;TZID=America/Los_Angeles:20240118T200000
DTSTAMP:20260421T154710
CREATED:20240113T064532Z
LAST-MODIFIED:20240127T172247Z
UID:272-1705604400-1705608000@fofeugene.org
SUMMARY:FoFE January General Meeting - Canceled
DESCRIPTION:Canceled due to weather\, power and internet outages.  Stay safe!
URL:https://fofeugene.org/event/fofe-general-meeting-zoom/
LOCATION:OR
END:VEVENT
BEGIN:VEVENT
DTSTART;TZID=America/Los_Angeles:20240111T193000
DTEND;TZID=America/Los_Angeles:20240111T203000
DTSTAMP:20260421T154710
CREATED:20240103T034412Z
LAST-MODIFIED:20240111T231501Z
UID:214-1705001400-1705005000@fofeugene.org
SUMMARY:2024 Canoe Island Info Meeting-Zoom
DESCRIPTION:Learn more about Canoe Island.  Join us for a Q&A session with Margaret Schafer\, Canoe Island Camp Director.  We encourage all current fourth grade families to bring your questions and learn about this exciting annual experience. \nZoom info: \nJoin Zoom Meeting\nhttps://us02web.zoom.us/j/81246780860?pwd=Y2VWc0czbVFvNzh5RElzYmtibkFRdz09 \nMeeting ID: 812 4678 0860\nPasscode: 708218
URL:https://fofeugene.org/event/2024-canoe-island-info-meeting-zoom/
LOCATION:OR
CATEGORIES:Canoe Island
ATTACH;FMTTYPE=image/jpeg:https://fofeugene.org/wp-content/uploads/2024/01/IMG_5732-1-e1704252918449.jpeg
END:VEVENT
END:VCALENDAR